BEGIN:VCALENDAR
VERSION:2.0
PRODID:-//PEOPLES TAP - ECPv6.15.15//NONSGML v1.0//EN
CALSCALE:GREGORIAN
METHOD:PUBLISH
X-WR-CALNAME:PEOPLES TAP
X-ORIGINAL-URL:https://peoplestap.com
X-WR-CALDESC:Events for PEOPLES TAP
REFRESH-INTERVAL;VALUE=DURATION:PT1H
X-Robots-Tag:noindex
X-PUBLISHED-TTL:PT1H
BEGIN:VTIMEZONE
TZID:UTC
BEGIN:STANDARD
TZOFFSETFROM:+0000
TZOFFSETTO:+0000
TZNAME:UTC
DTSTART:20240101T000000
END:STANDARD
END:VTIMEZONE
BEGIN:VEVENT
DTSTART;TZID=UTC:20251214T140000
DTEND;TZID=UTC:20251214T153000
DTSTAMP:20260421T174319
CREATED:20251122T202212Z
LAST-MODIFIED:20251122T202528Z
UID:1672-1765720800-1765726200@peoplestap.com
SUMMARY:Books & Brews: The Rosie Project
DESCRIPTION: Time to Start Reading!\nOur next Books & Brews Book Club pick is The Rosie Project by Graeme Simsion — an international bestselling romantic comedy full of warmth\, emotional depth\, and humor. \nThe story follows Don Tillman\, a brilliant but socially challenged genetics professor who decides it’s time to find a wife. Naturally\, he approaches it with science: a sixteen-page\, meticulously crafted questionnaire to identify the perfect partner.\nThen he meets Rosie Jarman — spontaneous\, spirited\, and incompatible with every one of his criteria — who pulls Don into her own search for her biological father. Their unexpected partnership challenges everything Don thinks he knows about love\, connection\, and belonging.\nAll are welcome — it’s always a great discussion and a cozy afternoon with fellow book lovers!
URL:https://peoplestap.com/events-calendar/books-brews-the-rosie-project/
LOCATION:South Carolina
ATTACH;FMTTYPE=image/png:https://peoplestap.com/wp-content/uploads/2025/11/Books-and-Brews-4-6.png
END:VEVENT
END:VCALENDAR