BEGIN:VCALENDAR
VERSION:2.0
PRODID:-//PEOPLES TAP - ECPv6.15.15//NONSGML v1.0//EN
CALSCALE:GREGORIAN
METHOD:PUBLISH
X-WR-CALNAME:PEOPLES TAP
X-ORIGINAL-URL:https://peoplestap.com
X-WR-CALDESC:Events for PEOPLES TAP
REFRESH-INTERVAL;VALUE=DURATION:PT1H
X-Robots-Tag:noindex
X-PUBLISHED-TTL:PT1H
BEGIN:VTIMEZONE
TZID:UTC
BEGIN:STANDARD
TZOFFSETFROM:+0000
TZOFFSETTO:+0000
TZNAME:UTC
DTSTART:20240101T000000
END:STANDARD
END:VTIMEZONE
BEGIN:VEVENT
DTSTART;TZID=UTC:20251219T190000
DTEND;TZID=UTC:20251219T210000
DTSTAMP:20260421T174319
CREATED:20251213T204114Z
LAST-MODIFIED:20251213T222106Z
UID:1684-1766170800-1766178000@peoplestap.com
SUMMARY:Harry Potter Trivia Night
DESCRIPTION:Step into the wizarding world for a night of spells\, surprises\, and serious Potterhead pride—Harry Potter Trivia starts at 7pm!  Whether you’re a Gryffindor know-it-all\, a Ravenclaw scholar\, a loyal Hufflepuff\, or a cunning Slytherin strategist\, this is your chance to put your magical knowledge to the test.\nBring your best witches and wizards—teams can include up to 6 people —and feel free to bring your own outside food to fuel your quest for victory. Expect questions covering everything from characters and creatures to spells\, potions\, and the tiniest details only a true fan would catch.\nSip your butterbeer-inspired beverage of choice (okay… beer ) and enjoy a cozy night of friendly competition as you fight for glory on the leaderboard.\n The top 3 teams will take home prizes worthy of any house champion.\nSo dust off your wands\, polish your memories\, and prepare to shout “10 points to my house!”—we’ll see you there for a magical night at the taproom. 
URL:https://peoplestap.com/events-calendar/harry-potter-trivia-night/
LOCATION:The People’s Tap\, 250 RiverPlace\, Greenville\, SC\, 29601
ATTACH;FMTTYPE=image/png:https://peoplestap.com/wp-content/uploads/2025/12/Untitled-6-3.png
END:VEVENT
END:VCALENDAR