BEGIN:VCALENDAR
VERSION:2.0
PRODID:-//PEOPLES TAP - ECPv6.15.15//NONSGML v1.0//EN
CALSCALE:GREGORIAN
METHOD:PUBLISH
X-WR-CALNAME:PEOPLES TAP
X-ORIGINAL-URL:https://peoplestap.com
X-WR-CALDESC:Events for PEOPLES TAP
REFRESH-INTERVAL;VALUE=DURATION:PT1H
X-Robots-Tag:noindex
X-PUBLISHED-TTL:PT1H
BEGIN:VTIMEZONE
TZID:UTC
BEGIN:STANDARD
TZOFFSETFROM:+0000
TZOFFSETTO:+0000
TZNAME:UTC
DTSTART:20250101T000000
END:STANDARD
END:VTIMEZONE
BEGIN:VEVENT
DTSTART;TZID=UTC:20260219T190000
DTEND;TZID=UTC:20260219T210000
DTSTAMP:20260421T153153
CREATED:20260202T160511Z
LAST-MODIFIED:20260202T160511Z
UID:1744-1771527600-1771534800@peoplestap.com
SUMMARY:Matthew McConaughey Rom-Com Trivia Night
DESCRIPTION:Alright\, alright\, alright… it’s time for a trivia night dedicated to Matthew McConaughey’s rom-com era. From unforgettable meet-cutes to early-2000s nostalgia\, we’ll be pulling questions from his most iconic romantic comedies.\nRound up your team\, grab a drink\, and see who really knows their McConaughey moments — the charm\, the chaos\, and everything in between.\nTeams of up to 6 are welcome\, outside food is allowed\, and prizes are up for grabs. Just keep livin’… and trivia-ing. 
URL:https://peoplestap.com/events-calendar/matthew-mcconaughey-rom-com-trivia-night/
LOCATION:The People’s Tap\, 250 RiverPlace\, Greenville\, SC\, 29601
ATTACH;FMTTYPE=image/png:https://peoplestap.com/wp-content/uploads/2026/02/Untitled-14.png
END:VEVENT
END:VCALENDAR