BEGIN:VCALENDAR
VERSION:2.0
PRODID:-//PEOPLES TAP - ECPv6.15.15//NONSGML v1.0//EN
CALSCALE:GREGORIAN
METHOD:PUBLISH
X-WR-CALNAME:PEOPLES TAP
X-ORIGINAL-URL:https://peoplestap.com
X-WR-CALDESC:Events for PEOPLES TAP
REFRESH-INTERVAL;VALUE=DURATION:PT1H
X-Robots-Tag:noindex
X-PUBLISHED-TTL:PT1H
BEGIN:VTIMEZONE
TZID:UTC
BEGIN:STANDARD
TZOFFSETFROM:+0000
TZOFFSETTO:+0000
TZNAME:UTC
DTSTART:20250101T000000
END:STANDARD
END:VTIMEZONE
BEGIN:VEVENT
DTSTART;TZID=UTC:20260421T160000
DTEND;TZID=UTC:20260421T180000
DTSTAMP:20260421T105309
CREATED:20251214T002540Z
LAST-MODIFIED:20260326T201502Z
UID:1697-1776787200-1776794400@peoplestap.com
SUMMARY:Happy Hour
DESCRIPTION:Join us every Tuesday–Thursday from 4–6 PM for one of the best happy hours in Greenville! Enjoy $1 off all drinks—beer\, wine\, cider\, and more. Come unwind after work\, catch up with friends\, or just treat yourself to a well-earned midweek pour.
URL:https://peoplestap.com/events-calendar/happy-hour-4/
LOCATION:The People’s Tap\, 250 RiverPlace\, Greenville\, SC\, 29601
ATTACH;FMTTYPE=image/png:https://peoplestap.com/wp-content/uploads/2025/12/Untitled-4-5-scaled.png
END:VEVENT
BEGIN:VEVENT
DTSTART;TZID=UTC:20260421T190000
DTEND;TZID=UTC:20260421T210000
DTSTAMP:20260421T105309
CREATED:20240120T204419Z
LAST-MODIFIED:20260329T161115Z
UID:1279-1776798000-1776805200@peoplestap.com
SUMMARY:Trivia Night with ParmeJon
DESCRIPTION:Join us every Tuesday for Trivia at The People’s Tap\, featuring ParmeJon! \nTrivia kicks off promptly at 7pm\, so arrive early to grab your spot!  \nTeams can have up to 6 people. Feel free to bring outside food and enjoy a fun evening of brain-teasing questions and great company!  \nPrizes are on tap: 1st Prize: $30 2nd Prize: $20 3rd Prize: $10
URL:https://peoplestap.com/events-calendar/trivia-night-with-parmejon-3/
LOCATION:The People’s Tap\, 250 RiverPlace\, Greenville\, SC\, 29601
ATTACH;FMTTYPE=image/jpeg:https://peoplestap.com/wp-content/uploads/2024/08/thumbnail_IMG_9056.jpg
END:VEVENT
END:VCALENDAR