BEGIN:VCALENDAR
VERSION:2.0
PRODID:-//PEOPLES TAP - ECPv6.15.15//NONSGML v1.0//EN
CALSCALE:GREGORIAN
METHOD:PUBLISH
X-WR-CALNAME:PEOPLES TAP
X-ORIGINAL-URL:https://peoplestap.com
X-WR-CALDESC:Events for PEOPLES TAP
REFRESH-INTERVAL;VALUE=DURATION:PT1H
X-Robots-Tag:noindex
X-PUBLISHED-TTL:PT1H
BEGIN:VTIMEZONE
TZID:UTC
BEGIN:STANDARD
TZOFFSETFROM:+0000
TZOFFSETTO:+0000
TZNAME:UTC
DTSTART:20250101T000000
END:STANDARD
END:VTIMEZONE
BEGIN:VEVENT
DTSTART;TZID=UTC:20260422T160000
DTEND;TZID=UTC:20260422T183000
DTSTAMP:20260424T082026
CREATED:20251214T003348Z
LAST-MODIFIED:20260326T201706Z
UID:1701-1776873600-1776882600@peoplestap.com
SUMMARY:Happy Hour
DESCRIPTION:Join us every Tuesday–Thursday from 4–6 PM for one of the best happy hours in Greenville! Enjoy $1 off all drinks—beer\, wine\, cider\, and more. Come unwind after work\, catch up with friends\, or just treat yourself to a well-earned midweek pour.
URL:https://peoplestap.com/events-calendar/happy-hour-6/
LOCATION:The People’s Tap\, 250 RiverPlace\, Greenville\, SC\, 29601
ATTACH;FMTTYPE=image/png:https://peoplestap.com/wp-content/uploads/2025/12/Untitled-4-5-scaled.png
END:VEVENT
BEGIN:VEVENT
DTSTART;TZID=UTC:20260422T190000
DTEND;TZID=UTC:20260422T203000
DTSTAMP:20260424T082026
CREATED:20260325T225419Z
LAST-MODIFIED:20260325T225419Z
UID:1790-1776884400-1776889800@peoplestap.com
SUMMARY:Dungeon Crawler Carl Book Club: Book 2
DESCRIPTION:“New achievement! I’m on a train! Choo Choo\, Motherf—.”\nAttention\, crawlers.Your survival thus far has been… noted. But the dungeon is far from finished with you.\nNext up: The Dungeon Anarchist Cookbook. Things are getting messier\, more dangerous\, and significantly more unhinged. The rules? Optional. The consequences? Very real. Expect chaos\, questionable decisions\, and a deeper dive into just how far this dungeon is willing to go.\nThis discussion is perfect for: Readers who just survived Book 3 Veterans who know what’s coming Anyone who appreciates loot mechanics\, boss fights\, and absolute dungeon chaos\nNo prior attendance required. Just bring your opinions\, your theories\, and your best crawler energy. The dungeon demands it.
URL:https://peoplestap.com/events-calendar/dungeon-crawler-carl-book-club-book-2-2/
LOCATION:The People’s Tap\, 250 RiverPlace\, Greenville\, SC\, 29601
ATTACH;FMTTYPE=image/png:https://peoplestap.com/wp-content/uploads/2026/03/Untitled-3-10.png
END:VEVENT
END:VCALENDAR